BEGIN:VCALENDAR
VERSION:2.0
PRODID:-//HEHEMETAL - ECPv6.15.19//NONSGML v1.0//EN
CALSCALE:GREGORIAN
METHOD:PUBLISH
X-WR-CALNAME:HEHEMETAL
X-ORIGINAL-URL:https://hehemetal.com
X-WR-CALDESC:Events for HEHEMETAL
REFRESH-INTERVAL;VALUE=DURATION:PT1H
X-Robots-Tag:noindex
X-PUBLISHED-TTL:PT1H
BEGIN:VTIMEZONE
TZID:Asia/Krasnoyarsk
BEGIN:STANDARD
TZOFFSETFROM:+0700
TZOFFSETTO:+0700
TZNAME:+07
DTSTART:20230101T000000
END:STANDARD
END:VTIMEZONE
BEGIN:VEVENT
DTSTART;TZID=Asia/Krasnoyarsk:20250109T190000
DTEND;TZID=Asia/Krasnoyarsk:20250109T230000
DTSTAMP:20260420T041952
CREATED:20241226T050506Z
LAST-MODIFIED:20250103T050615Z
UID:9157-1736449200-1736463600@hehemetal.com
SUMMARY:New Year New Core
DESCRIPTION:Lineup:\n – Diarsia (Hybrid Deathcore)\n – District 105 (Beatdown Hardcore)\n – Final Heaven (Metalcore)\n– Hypertension (Technical Metal) \n\n\n\nVenue: Saigon Kick\, 68A Dong Nai\, Q10\, Ho Chi Minh City\, Vietnam\nDate: 9/1/2025\nTime: 7pm – late\n\n\nFREE Jaigermeister Energy\nTicket online: https://www.ticketcoup.com/new-year-new-core/
URL:https://hehemetal.com/event/new-year-new-core/
LOCATION:Saigon Kick Bar\, 68A Đồng Nai\, Phường 15\, Quận 10\, Hồ Chí Minh\, Viet Nam
ATTACH;FMTTYPE=image/jpeg:https://hehemetal.com/wp-content/uploads/2025/01/core-new-year.jpg
END:VEVENT
BEGIN:VEVENT
DTSTART;TZID=Asia/Krasnoyarsk:20250105T080000
DTEND;TZID=Asia/Krasnoyarsk:20250105T170000
DTSTAMP:20260420T041952
CREATED:20241223T104808Z
LAST-MODIFIED:20250103T105229Z
UID:9165-1736064000-1736096400@hehemetal.com
SUMMARY:Linkin Park Fanclub in Vietnam - Offline X
DESCRIPTION:Buổi Offline tại khu vực miền Nam với chủ đề: HEROES FROM ZERO\nCùng nhìn lại những hành trình của LPFCiVN và ban nhạc chúng ta cùng theo đuổi ngày tháng năm ấy\, xem buổi offline này sẽ mang đến gì cho chúng ta nhé:\n\nLần offline thứ 10 tại khu vực TP.HCM\nKỷ niệm 15 năm thành lập LPFCiVN\nKỷ niệm 15 năm LINKIN PARK phát hành album A Thousand Suns\nKỷ niệm 25 năm LINKIN PARK phát hành album Hybrid Theory\n\nVà quan trọng nhất:\nLINKIN PARK TÁI HỢP VÀ PHÁT HÀNH\n\nALBUM FROM ZERO SAU 7 NĂM VẮNG BÓNG \nThời gian: 14h – 17h\, CHỦ NHẬT ngày 05/01/2025\nĐịa điểm: Saigon Kick Bar – 68a Đường Đồng Nai\, Phường 15\, Quận 10\, Hồ Chí Minh\nChương trình còn có phần trình diễn live của các ban nhạc: XYZ\, Hải Thăng Bằng và S.M.L \nMua vé: https://www.ticketcoup.com/linkin-park-fan-club-in-vietnam-offline-x-heroes-from-zero/
URL:https://hehemetal.com/event/linkin-park-fanclub-in-vietnam-offline-x/
LOCATION:Khánh Hoà
ATTACH;FMTTYPE=image/jpeg:https://hehemetal.com/wp-content/uploads/2025/01/470169326_9016763368385122_7669933963868286425_n.jpg
END:VEVENT
BEGIN:VEVENT
DTSTART;TZID=Asia/Krasnoyarsk:20250104T190000
DTEND;TZID=Asia/Krasnoyarsk:20250104T230000
DTSTAMP:20260420T041952
CREATED:20241220T072645Z
LAST-MODIFIED:20241220T072645Z
UID:9153-1736017200-1736031600@hehemetal.com
SUMMARY:HUYNH ĐỆ IN ARMS
DESCRIPTION:Line upRAZOR LEAFKNIFE STICKING HEADRESURGED TEMPTATIONLONGBEZTHE PEACHESDIE SO FAR (Nha Trang)Thời gian: 7pm – 4/1/2025Địa điểm: ARROW WAREHOUSE – 90 Trần Khắc Trân\, phường 9\, Quận Phú Nhuận\, TP.HCM
URL:https://hehemetal.com/event/huynh-de-in-arms/
LOCATION:Arrow Warehouse\, 90 Trần Khắc Chân\, phường 9\, quận Phú Nhuận\, Ho Chi Minh\, Viet Nam
ATTACH;FMTTYPE=image/jpeg:https://hehemetal.com/wp-content/uploads/2024/12/469675372_122116155320417186_3077330686332950883_n.jpg
END:VEVENT
BEGIN:VEVENT
DTSTART;TZID=Asia/Krasnoyarsk:20241222T180000
DTEND;TZID=Asia/Krasnoyarsk:20241222T230000
DTSTAMP:20260420T041952
CREATED:20241220T071510Z
LAST-MODIFIED:20241220T071510Z
UID:9148-1734890400-1734908400@hehemetal.com
SUMMARY:THE ELF PARTY 2024: “DAY OFF”
DESCRIPTION:Lineup:\n+ Dotty Dotz\n+ ChipPunks\n+ HỌA\n+ The Vague\n+ da Healers\n+ Now or Later\n+ 18.18 \nMua ngay con zé “Yêu Tinh” với giá cực kì “iêu” đãi ở đây nha: https://forms.gle/2U6PHwcHkz2UTMHc9 \nTiệc yêu tinh tại: Saigon Kick Bar\, 68A Đồng Nai\, Quận 10\, TP. HCM.\nGiờ tới chơi: Check-in 18h00 ngày 22/12/2024
URL:https://hehemetal.com/event/the-elf-party-2024-day-off/
LOCATION:Saigon Kick Bar\, 68A Đồng Nai\, Phường 15\, Quận 10\, Hồ Chí Minh\, Viet Nam
ATTACH;FMTTYPE=image/jpeg:https://hehemetal.com/wp-content/uploads/2024/12/468182103_122166035306252562_7622442388029466459_n.jpg
END:VEVENT
BEGIN:VEVENT
DTSTART;TZID=Asia/Krasnoyarsk:20241221T190000
DTEND;TZID=Asia/Krasnoyarsk:20241221T230000
DTSTAMP:20260420T041952
CREATED:20241220T033004Z
LAST-MODIFIED:20241220T033403Z
UID:9138-1734807600-1734822000@hehemetal.com
SUMMARY:SILENT NIGHT\, SAVAGE NIGHT
DESCRIPTION:Tháng 12 này\, Rooster Rhythms sẽ biến Giáng Sinh thành một đêm headbang hung tợn đích thực. Sẽ ồn ào\, hoang dại\, và tuyệt đối không phải là bữa tiệc Giáng Sinh dành cho những ai yếu tim\, ai sợ thì đi về! Chúng tôi sẵn sàng chơi tới với các ban nhạc điên loạn\, những lon bia độc quyền\, và trận mosh pit đủ lớn để nghiền nát mọi điều rập khuôn\, nhàm chán mùa lễ hội. \n* Check in từ 18:00\, lên nhạc từ 19:00 \n* Danh sách những Bé Hư của ông già Noel: \nFinal Heaven \nStray Station \n9xacly \nDistrict 105 \nGAI 荄 \nKINH \n___ \n Địa điểm: 142 Trần Não\, Thành phố Thủ Đức\, TP. Hồ Chí Minh (trước đây là Coco Bongo\, Havana\, The Axe…) \n Thời gian: 18:00\, ngày 21 tháng 12 năm 2024 \n Vé tại cửa: 150\,000 VND
URL:https://hehemetal.com/event/silent-night-savage-night/
LOCATION:Rooster Rhythms\, 142 Trần Não\, Quận 2\, Viet Nam
ATTACH;FMTTYPE=image/jpeg:https://hehemetal.com/wp-content/uploads/2024/12/467467781_122170608614255155_8345090532761275951_n.jpg
END:VEVENT
BEGIN:VEVENT
DTSTART;TZID=Asia/Krasnoyarsk:20241214T190000
DTEND;TZID=Asia/Krasnoyarsk:20241214T230000
DTSTAMP:20260420T041952
CREATED:20241210T031348Z
LAST-MODIFIED:20241210T031348Z
UID:9114-1734202800-1734217200@hehemetal.com
SUMMARY:NURA WE ARE
DESCRIPTION:Kỷ niệm cột mốc 19 năm hoạt động âm nhạc\, “nguyên tố kim loại” Nuranium sẽ trở lại sân khấu cùng với một dàn nghệ sĩ\, ban nhạc khách mời ấn tượng.\n\n\nĐầu tiên các là nghệ sĩ:\n+ Thỏ Trauma – gương mặt vocal nữ đã quá quen thuộc với các fan\, vừa ra mắt dự án solo gây chú ý\n+ Nguyên Dốc – vocalist của Voluptuary\, ban nhạc death metal từ Hà Nội. Anh nổi bật với giọng death dữ dằn và phong cách quấn dây mic vào cổ trên sân khấu\n+ Nam Đào – bassist\, guitar quen thuộc của các dự án âm nhạc như Windrunner\, Lý Bực. Anh cũng là sáng lập Dev Records\n+ Cường Em: – vocalist của Titanium đã quá quen thuộc bởi độ sung mãn khi trên sân khấu\n\n\nHai ban nhạc khách mời:\n+ Morning Waits – đại diện metalcore kỳ cựu của thủ đô. Thành lập năm 2013 cùng với nhiều hoạt động\, show diễn lớn nhỏ. Năm 2019 họ phát hành album đầu tay “The Travelers”. Hiện tại ban nhạc tập trung vào sáng tác & hoàn thiện các ca khúc mới với mong muốn tiếp tục trình làng album thứ 2 của mình.\n+ @Blue Whales Band – được thành lập vào tháng 3 năm 2024. Gồm 7 thành viên đều có chung một tâm hồn nhiệt huyết với âm nhạc đã tìm đến nhau\, theo đuổi Modern Alternative Metalcore. Thế hệ kế cận cho scene nhạc nặng ở Hà Nội\n\n\nNURA WE ARE at Polygon Musik\n 𝑻𝒊𝒎𝒆: 20h00 – 13/12/2024\n 𝑨𝒅𝒅𝒓𝒆𝒔𝒔: Complex 01 – số 29 ngách 31 ngõ 167 Tây Sơn\, Hà Nội\n 𝑯𝒐𝒕𝒍𝒊𝒏𝒆: 0902 24 54 66\nĐăng ký ngay để hưởng ưu đãi earlybird (đã bao gồm 01 đồ uống)
URL:https://hehemetal.com/event/nura-we-are/
LOCATION:Polygon Musik\, 29 ngách 31 Ng. 167 P. Tây Sơn\, Quang Trung\, Đống Đa\, Hanoi\, Viet Nam
ATTACH;FMTTYPE=image/jpeg:https://hehemetal.com/wp-content/uploads/2024/12/469511295_1044301181044907_4410897929579561848_n.jpg
END:VEVENT
BEGIN:VEVENT
DTSTART;TZID=Asia/Krasnoyarsk:20241210T190000
DTEND;TZID=Asia/Krasnoyarsk:20241210T230000
DTSTAMP:20260420T041952
CREATED:20241113T090516Z
LAST-MODIFIED:20241113T090516Z
UID:9067-1733857200-1733871600@hehemetal.com
SUMMARY:Cõi Đen
DESCRIPTION:Headliner: Lifesick đến từ Đan Mạch! Họ được thành lập vào năm 2014 và cho đến nay đã phát hành 3 full length album tại 2 hãng đĩa là Southern Lord Recordings (Mỹ) và Isolation Records (Đức). Vào ngày 1 tháng 11 họ sẽ phát hành album mới “Loved by None\, Hated by All” tại MetalBlade Records của Mỹ. \nLine-up:\n– Lifesick \n– Under Pressure– Cút Lộn– Diarsia– ElbowDrop \n\n Địa điểm: 142 Trần Não Q2 HCM Thời gian: 19:00\, 10 tháng 12 năm 2024 Vé mua trước: 200.000đ Mua tại forms.gle/RXV5C8X56uy8foPb6 Vé tại cửa: 300.000đ
URL:https://hehemetal.com/event/coi-den/
LOCATION:Rooster Rhythms\, 142 Trần Não\, Quận 2\, Viet Nam
ATTACH;FMTTYPE=image/jpeg:https://hehemetal.com/wp-content/uploads/2024/11/464677008_895897839308432_124286177408829816_n.jpg
END:VEVENT
BEGIN:VEVENT
DTSTART;TZID=Asia/Krasnoyarsk:20241201T190000
DTEND;TZID=Asia/Krasnoyarsk:20241201T230000
DTSTAMP:20260420T041952
CREATED:20241113T091043Z
LAST-MODIFIED:20241113T091043Z
UID:9071-1733079600-1733094000@hehemetal.com
SUMMARY:On The Verge Of Extinction
DESCRIPTION:Line-up:\n– DEFILED (Nhật Bản): tour diễn quảng bá album mới Horror Beyond Horror.\n– CRUEL SOCIETY: show diễn đầu tiên sau khi phát hành album Pigsty\n– SPECTRE WRATH: debut show của nhóm black metal Sài Gòn.\n– CROSSDOWN: Một chút nhanh mạnh hơn trong chất raw black của 1 vài ca khúc mới từ sau album debut Winds Blow Over The Forsaken Land.\n– DISGUSTED: Đội hình 3 tay trở lại với line-up mới và album mới. \n*Thời gian : 19h tối Chủ Nhật\, 1 tháng 12 năm 2024*Địa điểm : Saigon Kick – Live Music Cafe & Bar – 68A Đồng Nai\, P15\, Q10\, Tp.HCM.*Giá vé : 280K (Early) – 350K (At Door). Vé bao gồm 1 phần nước uống kèm theo.
URL:https://hehemetal.com/event/on-the-verge-of-extinction/
LOCATION:Saigon Kick Bar\, 68A Đồng Nai\, Phường 15\, Quận 10\, Hồ Chí Minh\, Viet Nam
ATTACH;FMTTYPE=image/jpeg:https://hehemetal.com/wp-content/uploads/2024/11/465691561_1024221772835866_8812912098306835821_n-scaled.jpg
END:VEVENT
BEGIN:VEVENT
DTSTART;TZID=Asia/Krasnoyarsk:20241123T190000
DTEND;TZID=Asia/Krasnoyarsk:20241123T230000
DTSTAMP:20260420T041952
CREATED:20241113T085425Z
LAST-MODIFIED:20241113T085425Z
UID:9058-1732388400-1732402800@hehemetal.com
SUMMARY:TIÊN HỌC LỄ - HẬU HỌC CORE
DESCRIPTION:Line-up:+ FINAL HEAVEN+ UNDER PRESSURE+ STRAY STATION+ HAPPYCO.+ ELBOW DROP \nVenue: ARROW WAREHOUSE 90 Trần Khắc Chân\, W.9\, D. Phú Nhuận \nTicket (Included 1 Drink):18O.OOO (Online) – 25O.OOO (At Door)\n \nTicket link:https://forms.gle/wjg3fehZhhpdERWG9
URL:https://hehemetal.com/event/tien-hoc-le-hau-hoc-core/
LOCATION:Arrow Warehouse\, 90 Trần Khắc Chân\, phường 9\, quận Phú Nhuận\, Ho Chi Minh\, Viet Nam
ATTACH;FMTTYPE=image/jpeg:https://hehemetal.com/wp-content/uploads/2024/11/465847455_122117141696545744_6971451810169291950_n.jpg
END:VEVENT
BEGIN:VEVENT
DTSTART;TZID=Asia/Krasnoyarsk:20241116T190000
DTEND;TZID=Asia/Krasnoyarsk:20241116T230000
DTSTAMP:20260420T041952
CREATED:20241113T085740Z
LAST-MODIFIED:20241113T085740Z
UID:9062-1731783600-1731798000@hehemetal.com
SUMMARY:NO COVER vol.5
DESCRIPTION:Line-up:\n+ CoCC\n+ The Breeze\n+ Vers de Societé\n+ SugarySerial\n+ Felix and Edward \nSOMA SAIGON\, 6 Lê Văn Miến\, Thảo Điền\, Quận 2 \nVào cửa tự do
URL:https://hehemetal.com/event/no-cover-vol-5/
LOCATION:Soma Saigon\, 6 Lê Văn Miến\, Thảo Điền\, Quận 2\, Ho Chi Minh\, Viet Nam
ATTACH;FMTTYPE=image/jpeg:https://hehemetal.com/wp-content/uploads/2024/11/462422721_122132556356364501_8504748594142463341_n.jpg
END:VEVENT
BEGIN:VEVENT
DTSTART;TZID=Asia/Krasnoyarsk:20241110T150000
DTEND;TZID=Asia/Krasnoyarsk:20241110T230000
DTSTAMP:20260420T041952
CREATED:20241030T080545Z
LAST-MODIFIED:20241030T080545Z
UID:8998-1731250800-1731279600@hehemetal.com
SUMMARY:"BLVCK" - EXTREME & ALTERNATIVE FEST
DESCRIPTION:DEV Records đồng hành cùng House of Ygra và SCHOOL OF MOSH xin hân hạnh giới thiệu điểm đến mới nhất cho cool kids của underground scene Hà Nội\, BLVCK\, một LỄ HỘI âm nhạc dành riêng cho làn sóng extreme và alternative. \nCùng lên đồ\, lên giáp\, để chuẩn bị cho một FEST-FULL-NGÀY với sự tấn công âm thanh của 8 ban nhạc khác nhau! Hãy chờ đón headliner của sự kiện\, KOKESHI\, hiện tượng blackgaze đến từ Nhật Bản trong một set diễn đầy ám ảnh\, những con quái vật beatdown/metalcore SEDATIVE (Úc) và G6PD (Thái Lan)\, và cùng hòa mình vào làn sóng underground của Hà Nội với những gương mặt đại diện cho nền âm thanh đa dạng của Thủ Đô: GAI 荄- DODSSANGER – MORNING WAITS – PUTRID VOMIT CHRIST – AMONGST THE FALLEN. \nThời gian: 15h 10/11/2024 \nĐịa điểm: Hanoi Rock City – 27/52 Tô Ngọc Vân\, Tây Hồ\, Hà Nội \nVé pre-order: 400.000đ Mua ngay tại https://devrecords.co/products/blvck-fest \nVé tại cửa: 600.000đ
URL:https://hehemetal.com/event/blvck-extreme-alternative-fest/
LOCATION:Hanoi Rock City\, 27/52 Tô Ngọc Vân\, Quảng An\, Hanoi\, Viet Nam
ATTACH;FMTTYPE=image/jpeg:https://hehemetal.com/wp-content/uploads/2024/10/blvck.jpg
END:VEVENT
BEGIN:VEVENT
DTSTART;TZID=Asia/Krasnoyarsk:20241107T193000
DTEND;TZID=Asia/Krasnoyarsk:20241107T230000
DTSTAMP:20260420T041952
CREATED:20241030T075707Z
LAST-MODIFIED:20241030T075707Z
UID:8989-1731007800-1731020400@hehemetal.com
SUMMARY:LUNARSEA - Live in Vietnam: Wandering in the Void
DESCRIPTION:Nằm trong tour diễn châu Á đầu tiên của ban nhạc melodic death metal đến từ Roma\, Ý\, Hà Nội là một trong các điểm dừng bên cạnh Thượng Hải\, Tokyo và Seoul. \nLunarsea thành lập vào 2003 và đã phát hành 4 album full-length. Chất nhạc của họ mang hơi hướng của Gothenburg-style melodic death\, chủ đề sáng tác về không gian vũ trụ như đúng cái tên ban nhạc: Lunasea – biển mặt trăng là các vùng mặt phẳng bazan rộng và tối của Mặt Trăng được hình thành bởi các vụ phun trào núi lửa cổ đại. Chúng được gọi là maria\, trong tiếng Latinh có nghĩa là “biển”\, bởi những nhà thiên văn học trước đây nhầm tưởng là biển thật. \nChương trình tại Hà Nội sẽ có phần support của ban nhạc chủ nhà Imperatus (black metal) \nThời gian: 20:00 thứ 5 ngày 7.11\nĐịa điểm: Polygon Musik – 29 ngách 31 Ng. 167 P. Tây Sơn\, Quang Trung\, Đống Đa\n• PRE-ORDER: 200.000 VND\n• AT DOOR: 250.000 VND
URL:https://hehemetal.com/event/lunarsea-live-in-vietnam-wandering-in-the-void/
LOCATION:Polygon Musik\, 29 ngách 31 Ng. 167 P. Tây Sơn\, Quang Trung\, Đống Đa\, Hanoi\, Viet Nam
ATTACH;FMTTYPE=image/jpeg:https://hehemetal.com/wp-content/uploads/2024/10/lunarsea.jpg
END:VEVENT
BEGIN:VEVENT
DTSTART;TZID=Asia/Krasnoyarsk:20241102T180000
DTEND;TZID=Asia/Krasnoyarsk:20241102T230000
DTSTAMP:20260420T041952
CREATED:20241030T080123Z
LAST-MODIFIED:20241030T080123Z
UID:8993-1730570400-1730588400@hehemetal.com
SUMMARY:Trick or Treat - Nha Trang Heavy Souls
DESCRIPTION:Trick or Treat với line-up 8 ban nhạc: Knife Sticking Head\, Diarsia\, Kinh\, Razor Leaf\, Now Or Later cùng Elevator (Metalcore/Nha Trang)\, Horn Of Asgard (Death/Rus\,Nha Trang)\, Gargoyles (Death/Rus\,Hanoi)
URL:https://hehemetal.com/event/trick-or-treat-nha-trang-heavy-souls/
LOCATION:Bong Villa\, Tổ 14 Cầu Ngọc Thảo\, Ngọc Hiệp\, Nha Trang\, Khanh Hoa\, Viet Nam
ATTACH;FMTTYPE=image/jpeg:https://hehemetal.com/wp-content/uploads/2024/10/trick-treat.jpg
END:VEVENT
BEGIN:VEVENT
DTSTART;TZID=Asia/Krasnoyarsk:20241017T180000
DTEND;TZID=Asia/Krasnoyarsk:20241017T233000
DTSTAMP:20260420T041952
CREATED:20240927T042006Z
LAST-MODIFIED:20240927T042006Z
UID:8953-1729188000-1729207800@hehemetal.com
SUMMARY:BẶC CO: OVERPOWER
DESCRIPTION:84badblood tự hào giới thiệu chương trình “OVERPOWER” \n\nTrong chuỗi tour Đông Nam Á năm 2024 của hai ban nhạc Hardcore tới từ vương quốc vạn đảo Indonesia là Fraud và Kenya\n\nCác ban nhạc địa phương sẽ support:\nKINH (Death Metal)Elbowdrop (Hardcore)Cút Lộn (Hardcore)Under Pressure (Hardcore)Empathize (Hardcore)\n\n\n\nĐịa điểm chương trình: Saigon Kick Music Bar (68A\, Đồng Nai\, phường 15 Quận 10\, Tp.HCM)\nThời gian: 6pm ngày 17.10.2024\n\n\nGiá vé:\nMua trước 230k\nTại cổng 330k
URL:https://hehemetal.com/event/bac-co-overpower/
LOCATION:Saigon Kick Bar\, 68A Đồng Nai\, Phường 15\, Quận 10\, Hồ Chí Minh\, Viet Nam
ATTACH;FMTTYPE=image/jpeg:https://hehemetal.com/wp-content/uploads/2024/09/overpoweder.jpg
END:VEVENT
BEGIN:VEVENT
DTSTART;TZID=Asia/Krasnoyarsk:20241005T200000
DTEND;TZID=Asia/Krasnoyarsk:20241005T233000
DTSTAMP:20260420T041952
CREATED:20240927T041243Z
LAST-MODIFIED:20240927T041243Z
UID:8949-1728158400-1728171000@hehemetal.com
SUMMARY:FaM CONCERT - REVELATION 5:10
DESCRIPTION:Saigon Kick – Live Music Cafe & Bar sắp mang đến cho bạn một trải nghiệm không thể quênvới show thời trang kết hợp với Metal band.\nCùng với Shop Rock Bà Bà – nhà thiết kế tiên phong trong phong cách thời trang âm nhạc goth\, alternative\, hứa hẹn sẽ khiến bạn mãn nhãn với bộ sưu tập độc đáo của mình. \n\nĐặc biệt\, FREE HENNA TATTOO dành cho 20 bạn check-in đầu tiên! \nThời trang\, âm nhạc cuồng nhiệt\, cùng hàng loạt hoạt động thú vị như photo booth\, catwalk show\, live band\, special cocktail chỉ dành riêng cho event\, và nhiều hơn nữa đang chờ đón bạn.\n\nLine up:\n– BLACK INDUSTRY\n– 2 ban nhạc nữa sẽ sớm hé lộ\n Giá vé (đã bao gồm 1 bia): Online: 250.000 VNĐAt door: 280.000 VNĐ Ngày 5/10/2024  Thời gian: 8PM – 12PM Venue: 68a Đ. Đồng Nai\, Phường 15\, Quận 10\, Hồ Chí Minh
URL:https://hehemetal.com/event/fam-concert-revelation-510/
LOCATION:Saigon Kick Bar\, 68A Đồng Nai\, Phường 15\, Quận 10\, Hồ Chí Minh\, Viet Nam
ATTACH;FMTTYPE=image/jpeg:https://hehemetal.com/wp-content/uploads/2024/09/farm-concert.jpg
END:VEVENT
BEGIN:VEVENT
DTSTART;TZID=Asia/Krasnoyarsk:20241002T190000
DTEND;TZID=Asia/Krasnoyarsk:20241002T230000
DTSTAMP:20260420T041952
CREATED:20240927T040642Z
LAST-MODIFIED:20240927T040642Z
UID:8946-1727895600-1727910000@hehemetal.com
SUMMARY:Apocalypse Tour 2024 - SEA
DESCRIPTION:Tour diễn Đông Nam Á của bộ tứ ban nhạc gồm: \n\nThe Horsemen of Metal:\n\n\n Chimera Cult – (CA/CN – Death Metal)\n\n\n Soulitude (EU/US – Cyber Core)\n\n\n Gargoyles In The Night Wasteland – (KAZ/RUS – Death Groove Metal)\n\n\n Blood Of Life – (CN/ES – Melodic Death Metal) \nKhách mời địa phương:\nDiarsia – (Deathcore)\nKaali – (Blackend Hardcore) \nĐiểm dừng tại Tp.HCM vào thứ 4 ngày 2.10 tới đây
URL:https://hehemetal.com/event/apocalypse-tour-2024-sea/
LOCATION:Saigon Kick Bar\, 68A Đồng Nai\, Phường 15\, Quận 10\, Hồ Chí Minh\, Viet Nam
ATTACH;FMTTYPE=image/jpeg:https://hehemetal.com/wp-content/uploads/2024/09/apocalupse.jpg
END:VEVENT
BEGIN:VEVENT
DTSTART;TZID=Asia/Krasnoyarsk:20240929T193000
DTEND;TZID=Asia/Krasnoyarsk:20240929T233000
DTSTAMP:20260420T041952
CREATED:20240914T042828Z
LAST-MODIFIED:20240927T043345Z
UID:8959-1727638200-1727652600@hehemetal.com
SUMMARY:X-Metal In Hà Nội: Dead Marching
DESCRIPTION:Nằm trong chặng tour xuyên Việt\, X-Metal trân trọng giới thiệu Dead Marching được tổ chức tại Hanoi Rock City với line-up:—————————–– GAI 荄 : Deathcore với thành viên đến từ nhiều nơi\, đã cho ra mắt 1 số sản phẩm đáng chú ý gần đây.\n– Reborn : Melodic death được thành lập khá lâu nay xuất hiện trở lại support cho show diễn lần này.\n– Imperatus : Black metal với 1 lực lượng đầy nhiệt huyết của tuổi trẻ.\n– Crossdown : Black metal cùng những sáng tác mới.\n– Butchery : Brutal death\, nhóm sẽ chơi full setlist của album 2\, With All My Hatred. Đây cũng là show diễn ra mắt album của band.—————————–*Time : 19h30\, Chủ Nhật\, 29/9/2024*Venue : Hanoi Rock City27/52 Tô Ngọc Vân\, Tây Hồ\, Hà Nội*Ticket : 250k (Pre-Sale) – 350k (At Door)
URL:https://hehemetal.com/event/x-metal-in-ha-noi-dead-marching/
LOCATION:Hanoi Rock City\, 27/52 Tô Ngọc Vân\, Quảng An\, Hanoi\, Viet Nam
ATTACH;FMTTYPE=image/jpeg:https://hehemetal.com/wp-content/uploads/2024/09/dead-marching.jpg
END:VEVENT
BEGIN:VEVENT
DTSTART;TZID=Asia/Krasnoyarsk:20240928T193000
DTEND;TZID=Asia/Krasnoyarsk:20240928T230000
DTSTAMP:20260420T041952
CREATED:20240927T040036Z
LAST-MODIFIED:20240927T042026Z
UID:8942-1727551800-1727564400@hehemetal.com
SUMMARY:COCC & Skeleton Goode by Noise Saigon
DESCRIPTION:Noise Saigon giới thiệu bộ đôi COCC & Skeleton Goode cùng Cosmic Meltdown DJs \nCOCC – ban nhạc Psychedelic/indie rock mà các fan Rock Việt không nên bỏ lỡ. Họ sẽ trở lại sân khấu với đêm nhạc tại Saigon Kick – Live Music cùng với ban nhạc gồm các thành viên ngoại quốc sinh sống tại Việt Nam: Skeleton Goode \n  \nLineup:\n– COCC– Skeleton Goode– Cosmic Meltdown DJs\n\n T7\, 28.9. 2024 19:30 ADV 150K | At Door 200k\n 
URL:https://hehemetal.com/event/cocc-skeleton-goode-by-noise-saigon/
LOCATION:Saigon Kick Bar\, 68A Đồng Nai\, Phường 15\, Quận 10\, Hồ Chí Minh\, Viet Nam
ATTACH;FMTTYPE=image/jpeg:https://hehemetal.com/wp-content/uploads/2024/09/457740216_470370535985773_3814435006612064941_n.jpg
END:VEVENT
BEGIN:VEVENT
DTSTART;TZID=Asia/Krasnoyarsk:20240921T180000
DTEND;TZID=Asia/Krasnoyarsk:20240921T230000
DTSTAMP:20260420T041952
CREATED:20240827T095741Z
LAST-MODIFIED:20240827T095741Z
UID:8922-1726941600-1726959600@hehemetal.com
SUMMARY:POP PUNK CỰC MẠNH VOL.4: BÁ ZƠ HỌC ĐÒI
DESCRIPTION:Buổi tiệc học đường thiệt là bá zơ và bá đạo với những cái tên pop punk đang nổi \nLine-up: \n7Uppercuts\n18.18\nĐá Số Tới\nNow or Later\nJaigon Orchestra \nBuy ticket: https://forms.gle/g1MpLKUbfYviwz9x5
URL:https://hehemetal.com/event/pop-punk-cuc-manh-vol-4-ba-zo-hoc-doi/
LOCATION:Sân khấu C30 Hòa Bình\, 141 Đ. Bắc Hải\, Phường 14\, Quận 10\, Ho Chi Minh\, Viet Nam
ATTACH;FMTTYPE=image/jpeg:https://hehemetal.com/wp-content/uploads/2024/08/tuptac.jpg
END:VEVENT
BEGIN:VEVENT
DTSTART;TZID=Asia/Krasnoyarsk:20240913T183000
DTEND;TZID=Asia/Krasnoyarsk:20240913T233000
DTSTAMP:20260420T041952
CREATED:20240827T081903Z
LAST-MODIFIED:20240910T033008Z
UID:8899-1726252200-1726270200@hehemetal.com
SUMMARY:Relentless Beating (Vulvodynia & Dusx)
DESCRIPTION:Vulvodynia – Deathcore/Brutal Death của Nam Phi hiện trực thuộc Unique Leader Records. Nhóm đã phát hành 5 album.Dusx – Death/Grind của Indonesia hiện thuộc Disaster Records.INGORRED – Deathcore/Metalcore\, 1 cái tên quen thuộc gần đây\, đã phát hành EP Secrect Pain.Sleeping Hollow – Death Metal với album Mass Execution phát hành bởi Bloody Chunks Records.*Ticket : 500k (Early) – 700k (At Door)
URL:https://hehemetal.com/event/relentless-beating-vulvodynia-dusx/
LOCATION:Saigon Kick Bar\, 68A Đồng Nai\, Phường 15\, Quận 10\, Hồ Chí Minh\, Viet Nam
ATTACH;FMTTYPE=image/jpeg:https://hehemetal.com/wp-content/uploads/2024/08/xmteal-139.jpg
END:VEVENT
BEGIN:VEVENT
DTSTART;TZID=Asia/Krasnoyarsk:20240913T183000
DTEND;TZID=Asia/Krasnoyarsk:20240913T230000
DTSTAMP:20260420T041952
CREATED:20240827T080759Z
LAST-MODIFIED:20240827T081431Z
UID:8889-1726252200-1726268400@hehemetal.com
SUMMARY:SCUMFEST#4: UNDEATH
DESCRIPTION:Đại tiệc extreme metal của Hà Nội sẽ trở lại vào tháng 9 năm nay\, đánh dấu một khởi đầu mới sau trilogy 3 show grindcore\, chúng ta sẽ đến với một line-up death metal bạo lực hoàn toàn mới. Headline bởi UNDEATH\, một trong những cái tên dẫn đầu của làn sóng death metal mới đến từ nước Mỹ\, đây là một show không thể bỏ qua nếu bạn đang mong chờ một “cái chết” thuần khiết với một phong cách “old-but-new-school” của death metal từ bấy lâu nay.Cùng với khách mời đặt biệt lần này thì dàn support đến từ Hà Nội cũng không kém cạnh với 3 band nòng cốt của House of Ygra bao gồm Revasseur – Putrid Vomit Christ – Nuclear Stockpiles
URL:https://hehemetal.com/event/scumfest4-undeath/
LOCATION:Hanoi Rock City\, 27/52 Tô Ngọc Vân\, Quảng An\, Hanoi\, Viet Nam
ATTACH;FMTTYPE=image/jpeg:https://hehemetal.com/wp-content/uploads/2024/08/456778299_848705957355964_1654415590208935463_n-1.jpg
END:VEVENT
BEGIN:VEVENT
DTSTART;TZID=Asia/Krasnoyarsk:20240828T190000
DTEND;TZID=Asia/Krasnoyarsk:20240828T233000
DTSTAMP:20260420T041952
CREATED:20240827T075621Z
LAST-MODIFIED:20240827T083603Z
UID:8882-1724871600-1724887800@hehemetal.com
SUMMARY:FULL OF HELL live in Vietnam
DESCRIPTION:Bộ tứ nghiện-nghiền\, noise-metal đột biến từ Mỹ cùng với Ugoslabier\, đại diện post-hardcore Thái Lan\, sẽ xuất hiện và gieo rắc….\nHOÀN TOÀN LÀ ĐỊA NGỤC\, NHƯNG KHÔNG THEO KIỂU BOSCH. \n\nFull of Hell chưa và chẳng bao giờ thiếu những lạc thú thiên thai khắp trong 30 tạo tác âm nhạc họ cho ra đời suốt 15 năm qua. \n\nTrong sự phát triển siêu trội của mình\, nhóm thu thập thêm những fan mới hệt như cách họ thu thập những nguồn cảm hứng sáng tạo\, luôn vừa là chính mình cũng vừa là bất kỳ ai xoắn quyện sáng tạo cùng (những Merbow\, The Body\, Primitive Man\, Nothing\, và sắp tới đây\, cả Chelsea Wolfe) \n\nTrong khi đó\, Ugoslabier trở lại Saigon\, và Việt Nam\, cốt để phô diễn thứ chaos đặc sắc từ Thái Lan. \n\nTrong những xung nhịp hòa giữa men và nhạc của Rooster Rhythms\, đại tiệc nhạc sống của nghệ thuật và sự tàn bạo sẽ càng thêm chuếnh choáng\, ồn ả bởi ba đại diện tinh túy nhất của Việt Nam\, Cut Lon\, Kaali và District105.
URL:https://hehemetal.com/event/full-of-hell-live-in-vietnam/
LOCATION:Rooster Rhythms\, 142 Trần Não\, Quận 2\, Viet Nam
ATTACH;FMTTYPE=image/jpeg:https://hehemetal.com/wp-content/uploads/2024/08/social-1-1.jpg
END:VEVENT
BEGIN:VEVENT
DTSTART;TZID=Asia/Krasnoyarsk:20240817T190000
DTEND;TZID=Asia/Krasnoyarsk:20240817T233000
DTSTAMP:20260420T041952
CREATED:20240827T081212Z
LAST-MODIFIED:20240827T081212Z
UID:8894-1723921200-1723937400@hehemetal.com
SUMMARY:PUSH IT TO THE LIMIT
DESCRIPTION:Giữa những ngổn ngang và rào cản của cuộc sống với đam mê âm nhạc thì cần một động lực gì đó để vượt qua. PUSHIT – đêm diễn tập hợp các ban nhạc local cũng như kết hợp các đại diện metal và hardcore sẽ mang tinh thần đó. Nhưng liệu ngoài ý nghĩa trên thì đây có phải là 1 phép chơi chữ để nói về thực trạng scene hiện tại. .\n\n\nChương trình đánh dấu sự xuất hiện của đại diện hardcore mới toanh đến từ Hà Nội: Amongst The Fallen. Trước thềm PUSHIT họ sẽ cho ra mắt single vào 15.8 tới.\n\n\nNhững đại diện chủ nhà gồm có:\n+ Knife Sticking Head là cái tên cũng đã quá quen thuộc với anh em hardcore\, lần này đội hình họ sẽ có thành viên mới.\n+ BẠO cũng là 1 ban nhạc hardcore đầy sức trẻ và nhiệt.\n+ Resurged Temptation với những chất liệu của metalcore và “tuổi thơ” của các thành viên như melodic death\, groove metal\n+ Longbez: ẩn số mới với những thể nghiệm\, ảnh hưởng từ trap metal\, dark trap\, numetal\n+ End of Road với melodic death trở lại sau 3 năm với một số thay đổi trong đội hình.
URL:https://hehemetal.com/event/push-it-to-the-limit/
LOCATION:Khánh Hoà
ATTACH;FMTTYPE=image/jpeg:https://hehemetal.com/wp-content/uploads/2024/08/fyufuuy.jpg
END:VEVENT
END:VCALENDAR