BEGIN:VCALENDAR
VERSION:2.0
PRODID:-//HEHEMETAL - ECPv6.15.19//NONSGML v1.0//EN
CALSCALE:GREGORIAN
METHOD:PUBLISH
X-ORIGINAL-URL:https://hehemetal.com
X-WR-CALDESC:Events for HEHEMETAL
REFRESH-INTERVAL;VALUE=DURATION:PT1H
X-Robots-Tag:noindex
X-PUBLISHED-TTL:PT1H
BEGIN:VTIMEZONE
TZID:Asia/Krasnoyarsk
BEGIN:STANDARD
TZOFFSETFROM:+0700
TZOFFSETTO:+0700
TZNAME:+07
DTSTART:20240101T000000
END:STANDARD
END:VTIMEZONE
BEGIN:VEVENT
DTSTART;TZID=Asia/Krasnoyarsk:20251228T190000
DTEND;TZID=Asia/Krasnoyarsk:20251228T233000
DTSTAMP:20260420T095028
CREATED:20251205T042329Z
LAST-MODIFIED:20251205T042330Z
UID:9457-1766948400-1766964600@hehemetal.com
SUMMARY:DeathcembeR
DESCRIPTION:Dòng chảy bất tận của death metal cùng underground music vẫn ngấm ngầm âm ỉ với những sự cuồng nộ\, khí chất và dữ dội. Nhân dịp trở lại Việt Nam của co-founder\, guitarist Nhân Nguyễn sau 6 năm\, Infecated kết hợp cùng HEHEMETAL trân trọng giới thiệu DeathcembeR\, một đêm diễn quy tụ 5 ban nhạc death metal \n\nInfecated – old school death metal\, lần này họ sẽ xuất hiện đội hình 6 thành viên\nVoluptuary – death metal đến từ Hà Nội\, trở lại Saigon sau 6 năm cũng như quay lại sân khấu sau 3 năm.\nKINH – bộ ba death metal Saigon với những hoạt động sản phẩm âm nhạc năng nổ nhất trong 2025\nThánh Dực – pha trộn giữa death metal và các yếu tố khác như symphonic\, doom với những chủ đề sáng tác về chiến tranh chống ngoại xâm. 2025 cũng là 1 năm họ xuất hiện nhiều các sân khấu\nHypertension – technical/progressive metal\, thành lập cuối 2024 nhưng những thành viên của ban nhạc không còn xa lạ gì với các metalhead\n\nĐồng hành cùng chương trình sẽ vẫn là Rooster Rhythms. Ngoài ra setlist trong chương trình sẽ có nhiều bất ngờ với những bản tribute các nghệ sĩ tháng 12. \nKhông cần dài dòng thêm\, hẹn tất cả các metalhead vào 19:00 tại Golden Bird’s – 142 Trần Não\, An Khánh\, Tp.HCM.\nVé tham dự chương trình đang mở bán online \n[tc_ticket id=”9373″ show_price=”false” price_position=”after” type=”cart”]\n[tc_ticket id=”9456″ show_price=”false” price_position=”after” type=”cart”]\n[tc_ticket id=”9372″ show_price=”false” price_position=”after” type=”cart”] \nVé cứng để dễ dàng hơn sẽ sớm có mặt tại Kệ\, Midway và Tiệm Bia Gà
URL:https://hehemetal.com/event/deathcember/
LOCATION:Golden Bird’s Event Space\, 142 Đường Trần Não\, Ho Chi Minh\, Viet Nam
ATTACH;FMTTYPE=image/jpeg:https://hehemetal.com/wp-content/uploads/2025/12/FB-cover.jpg
END:VEVENT
BEGIN:VEVENT
DTSTART;TZID=Asia/Krasnoyarsk:20260314T180000
DTEND;TZID=Asia/Krasnoyarsk:20260314T230000
DTSTAMP:20260420T095028
CREATED:20260213T090801Z
LAST-MODIFIED:20260302T092604Z
UID:9866-1773511200-1773529200@hehemetal.com
SUMMARY:ETHOS COLLECTIVAL
DESCRIPTION:Ethos Collective – âm thầm trở thành một “kho tư liệu sống” của âm nhạc độc lập và underground Việt Nam – chính thức tròn một tuổi. Để kỷ niệm cột mốc này\, sự kiện Ethos Collectival sẽ được tổ chức vào ngày 14/03 tới\, hứa hẹn một không gian tôn vinh sự giao thoa thuần túy giữa các scene nhạc. \nVới tinh thần “Không Headliner – Không thứ bậc”\, đêm nhạc xóa bỏ mọi rào cản để tập trung vào mục tiêu duy nhất: năng lượng từ sân khấu. \nDÀN LINE-UP ĐA SẮC DIỆN\nTừ những giai điệu tinh tế đến sự bùng nổ thô ráp\, chương trình quy tụ những đại diện tiêu biểu: \n+ Nặng đô & Gai góc: KINH (Death Metal)\, Bedlam Royals (Post-metal)\, Cút Lộn (Hardcore)\, happyco. (Hardcore/Punk). \n+ Phóng khoáng & Thử nghiệm: Anesthetic Youth (Alt-Rock/Post-Punk)\, irihi (Math-rock)\, The Breeze (Prog-rock)\, Jaigon Orchestra (Ska/Cantopop). \n\nTHÔNG TIN CHI TIẾT\n+ Thời gian: 18:00 | 14 tháng 3\, 2026 \n+ Địa điểm: Blue Monkey Bar – 199M Nguyễn Văn Hưởng – Quận 2 \nCác hạng vé: \n+ Pre-sale: 300k (Giới hạn 100 vé)\n+ Standard / Tại cửa: 450k\n+ Sinh viên: 300k (Áp dụng toàn thời gian)\n+ VIP: 500k (Kèm áo thun chính thức của sự kiện) \nMUA NGAY
URL:https://hehemetal.com/event/ethos-collectival/
LOCATION:Blue Monkey Bar\, 199M Nguyễn Văn Hưởng\, Phường An Khánh\, Viet Nam
ATTACH;FMTTYPE=image/jpeg:https://hehemetal.com/wp-content/uploads/2026/03/623429279_122266487792168569_8757286946158417705_n.jpg
END:VEVENT
END:VCALENDAR